BEGIN:VCALENDAR
VERSION:2.0
PRODID:-//wp-events-plugin.com//7.2.3.1//EN
BEGIN:VEVENT
UID:0-18@blogit.utu.fi
DTSTART:20260512T100000Z
DTEND:20260512T130000Z
DTSTAMP:20260424T175437Z
URL:https://blogit.utu.fi/kultva/events/suuri-elainseminaari-saa-jatkoa/
SUMMARY:Suuri eläinseminaari saa jatkoa!
DESCRIPTION:\n\nKULTVA järjestää jälleen yhteistyössä  Turun yhteisku
 nnallisen ja kulttuurisen eläintutkimuksen verkoston (TYKE) kanssa semin
 aarin\, jossa eläimet ja eläinten asema yhteiskunnassamme on tarkastelun
  keskiössä.\n\nKuulemme eläinlääkäri Elli Valtosen\, punkkitutkija S
 anna Lillbroända-Annalan ja eläinfilosofi Elisa Aaltolan puheenvuorot li
 ittyen eläinten yhteiskunnalliseen asemaan sekä siihen\, miten me ihmise
 t suhtaudumme toisiin lajeihin.\n\nMITÄ\, MILLOIN &amp\; MISSÄ: Suuri el
 äinseminaari II tiistaina 12.5.2026 klo 13-16 Turun yliopistolla Calonia-
 rakennuksessa\, huone Cal2.\n\nMIKSI: Koska eläimistä puhutaan yhä liia
 n vähän yleisen keskustelun lisäksi yhteiskuntatieteellisessä opetukse
 ssa\n\nMITEN: Ilmoittautumalla 5.5. mennessä osoitteessa tinyurl.com/elai
 nsemma2 (kahvitarjoilua varten)\n\nLisätietoa tapahtumasta voit kysellä 
 osoitteesta kiinsi@utu.fi.\n\n\n\n
END:VEVENT
END:VCALENDAR